BEGIN:VCALENDAR
VERSION:2.0
PRODID:-//Sasseta Alta - ECPv6.14.2//NONSGML v1.0//EN
CALSCALE:GREGORIAN
METHOD:PUBLISH
X-ORIGINAL-URL:http://www.sassetaalta.it
X-WR-CALDESC:Eventi per Sasseta Alta
REFRESH-INTERVAL;VALUE=DURATION:PT1H
X-Robots-Tag:noindex
X-PUBLISHED-TTL:PT1H
BEGIN:VTIMEZONE
TZID:Europe/Rome
BEGIN:DAYLIGHT
TZOFFSETFROM:+0100
TZOFFSETTO:+0200
TZNAME:CEST
DTSTART:20260329T010000
END:DAYLIGHT
BEGIN:STANDARD
TZOFFSETFROM:+0200
TZOFFSETTO:+0100
TZNAME:CET
DTSTART:20261025T010000
END:STANDARD
END:VTIMEZONE
BEGIN:VEVENT
DTSTART;TZID=Europe/Rome:20260507T140000
DTEND;TZID=Europe/Rome:20260510T150000
DTSTAMP:20260422T141644
CREATED:20260307T132648Z
LAST-MODIFIED:20260324T102751Z
UID:6802-1778162400-1778425200@www.sassetaalta.it
SUMMARY:DAL SILENZIO ALL' EROS con Cora Steinsleger
DESCRIPTION:È l’Anima a condurre le mani sulle vie del tuo Corpo \nE’ il Cuore a comunicare con il centro di ogni cellula\nE’ il Respiro a connettersi con il Tuo\ne fluire all’unisono sulle note degli elementi\nfinché il calore penetra la tua Profondità nutrendo le radici che avevi dimenticato..\n-Arodomis Shanga-\n\n\n\n“Il Tantra non ti dà certezze\, assicurazioni o stampelle. Non aggiunge nulla. È una spada che taglia rami secchi e pietre che impediscono il flusso della sorgente. È una morte infuocata.\n\n\n\nMentre la sessualità permea tutta la natura. La corporeità del mondo è intrisa di questa ebbrezza… è la porta. Ognuno di noi porta con sé una storia unica con la voglia di accendersi o sciogliersi. Ognuno di noi risponde visceralmente.\n\nRispondiamo con un cuore appassionato\, un focoso luogo d’incontro. Il desiderio è sacro perché è vitale. Essere vivi e vibranti. E in questo si rivela la nostra profonda e solitaria intimità.\n\nL’invito è ad attraversare\, andare oltre il partner\, l’oggetto di culto e sentire il fuoco. La fiamma nel nostro cuore\, indipendentemente dall’oggetto.\n\nEssere nella totalità\, bere dalla propria fonte.\n\nRiscoprire noi stessi nella nostra essenza\, nei nostri cuori in fiamme\, e andare oltre la visione limitata dell’essere come un fiammifero in attesa del suo grande giorno.\n\nIl cuore in fiamme o l’energia vitale si accende\, si stabilizza e viene assorbita nel canale centrale del nostro sistema nervoso sottile.\n\nQuesto porta all’esperienza di una grande beatitudine.\n\nQuesta felicità non è un mero piacere sentimentale ma una profonda esperienza di intimità con se stessi”.\n\n\n\nQuesto seminario è un’opportunità per sperimentare una profonda connessione con la quiete e la presenza.\n\nDal corpo inizieremo il cammino verso il piacere e la possibilità di abbandonarci al Mistero.\n\nAndremo a risvegliare la nostra naturale sensibilità riscoprendo luoghi conosciuti\, sconosciuti\, dimenticati o anestetizzati.\n\nUno spazio creativo\, spontaneo e sacro in cui osservare le nostre proiezioni\, controlli e dipendenze per aprirci all’incontro con l’altro.\n\nUn laboratorio pensato per coppie e persone che vogliono frequentare da sole\, desiderose di vivere un’esperienza di contatto intimo.\n\n\n\nLe pratiche proposte sono in relazione al lavoro del tocco della Danza Sensibile e al Massaggio Fluido di Pascal di Nevil. E altre pratiche.\n\n\n\n“La via dionisiaca è un’ubriachezza divina che porta non al disordine ma all’ordine”\nClaudio Naranjo\n\n\nIl lavoro si svolgerà in coppia. Chi desidera partecipare ma non ha un partner (amico/a\, compagno/a\, marito\, moglie…ecc) può comunque partecipare avendo la possibilità di lavorare con una persona tra i partecipanti.\n\n\n\n DOVE:\n\nAgriturismo “Sasseta Alta”\, Loc. Sasseta Alta 24 – 58054 Scansano – Grosseto\nwww.sassetaalta.it\n\nORARI:\ndalle ore 15.30 del 7 maggio alle ore 16.00 del 10 maggio 2026\n\nINFO e ISCRIZIONI:\n\nCora Steinsleger\, arocisabo@gmail.com 347.9727102\n\n\n\nCora Steinsleger nasce a Città del Messico nel 1972. Ha studiato presso la ENA (Escuela\nNacional De Arte) di Cuba. Danzatrice\, coreografa\, pedagoga percettiva\, nel 1992 si\nperfeziona alla disciplina del teatro-danza in Germania presso la Folkwang Hochschule di\nEssen condotta da Pina Baush.\nNel 1991 ha partecipato a seminari formativi sui 5 ritmi\, tenuti dalla creatrice della tecnica\,\nGabrielle Roth. Nel 1998 inizia lo studio e la pratica della Yoga Zen e Hatha Yoga\, prima\nnella scuola di Maiso Shiatsu Oki Doy Shudojo a Roma mentre negli ultimi anni è stata\nmolto influenzata dalle pratiche di vinyasa flow.\nDa più di 22 anni dirige corsi di yoga e yoga in gravidanza\, attualmente insegna Vinyasa\nTantra Yoga\, movimento sensoriale e lavoro su di sé\, continuando a creare nella danza.\nFormata in Danza Sensibile alla scuola di Claude Coldy.\nOperatrice diplomata in Canio-sacrale Biodinamica e dal 2001 accompagna le mamme\nnel loro percorso con amore e sensibilità\, sia con corsi di yoga in gravidanza che con il\nmassaggio neonatale e con l’approccio craniosacrale biodinamico.\nDa 19 anni approfondisce i temi della gestazione e della nascita con esperienze e\nformatori internazionali tra cui Eva Reich\, Mattew Appleton e Graham Kennedy.\nHa seguito in particolare una specifica formazione sulle dinamiche di nascita\nnell’impostazione di Ray Castellino.\nApprofondisce lo studio della medicina cinese\, la filosofia e le arti marziali\, seguendo gli\ninsegnamenti di Francisco Yang.\nAllieva di Claudio Naranjo e formatrice nel programma SAT ideato e creato dallo stesso\nNaranjo. Ha seguito gli insegnamenti di Daniel Odier per 14 anni.
URL:http://www.sassetaalta.it/event/dal-silenzio-all-eros-con-cora-steinsleger/
CATEGORIES:Attività & Offerte
ATTACH;FMTTYPE=image/jpeg:http://www.sassetaalta.it/wp-content/uploads/2026/02/CORA.jpg
END:VEVENT
BEGIN:VEVENT
DTSTART;TZID=Europe/Rome:20260523T100000
DTEND;TZID=Europe/Rome:20260524T170000
DTSTAMP:20260422T141644
CREATED:20260421T133918Z
LAST-MODIFIED:20260421T135942Z
UID:6855-1779530400-1779642000@www.sassetaalta.it
SUMMARY:MEDITAZIONE PER WATSU® con Francesca Bertocci
DESCRIPTION:Tramite esercizi a Terra ed in Acqua porteremo la Consapevolezza al Qui ed Ora crecando di accrescere la qualità\, cercheremo di approfondirla e di espanderla in modo da poter abbracciare anche la presenza dell’altro in maniera armonica e non invasiva. soprattutto in acqua sperimenteremo l’accoglienza e la resa\, intesa come affidarsi totalmente. Il seminario è esperienziale anche se per gli studenti in formazione di WATSU® vale 15 ore do corsi monotematici. Per chi ama l’acqua e la meditazione può incontrare un meraviglioso connubio. \nFrancesca \nInsegnante di Basic Watsu® e di SGM® (Massaggio Sensitivo Gestaltico)\, Counselor Olistico Filosomatico\, livello Professional\, SIAF Italia.\nOperatore di Watsu®\, Zen Shiatsu\, Arun Conscious Touch e Massaggio Sensitivo Gestaltico (SGM)®. \nLaureata in Filosofia\, dal 1990 studia e sperimenta tecniche che facilitano una maggiore connessione fra mente e corpo. “Conosci te stesso” sono le parole che in qualche modo hanno guidato le mie scelte\, i percorsi di vita e professionali e che ancora mi permettono di approfondire un ascolto interiore. L’indagine è iniziata con studi intellettuali per ritornare al corpo con la consapevolezza che esso rappresenta la casa dell’Anima.\nTerra\, Acqua\, Aria e Fuoco mi accompagnano in questa umana esperienza. \nPer informazioni e iscrizioni acquacadabra@sassetalata.it o telefonare al 0564 509124 – 3314467030.
URL:http://www.sassetaalta.it/event/meditazione-per-watsu-con-francesca-bertocci/
CATEGORIES:Attività & Offerte
ATTACH;FMTTYPE=image/jpeg:http://www.sassetaalta.it/wp-content/uploads/2026/04/MEDITAZIONE-PER-WATSU-FOTO.jpg
END:VEVENT
BEGIN:VEVENT
DTSTART;TZID=Europe/Rome:20260609T090000
DTEND;TZID=Europe/Rome:20260614T170000
DTSTAMP:20260422T141644
CREATED:20260324T102000Z
LAST-MODIFIED:20260324T102201Z
UID:6819-1780995600-1781456400@www.sassetaalta.it
SUMMARY:WATSU 2 con Keli Procopio
DESCRIPTION:Le sequenze e le competenze acquisite nei moduli precedenti si amplificano e la tecnica si evolve\,\nEsploriamo nuovi movimenti e posizioni\, adattandoli dinamicamente alle necessità specifiche di chi riceve.\nL’attenzione include anche una comprensione più profonda del corpo energetico\, introducendo il concetto dei\nmeridiani e dei punti di pressione propri dello Shiatsu.\nL’obiettivo non è solo l’esecuzione di una sequenza\, ma lo sviluppo di una sensibilità raffinata che permetta di\naccogliere i movimenti spontanei del ricevente\, dando spazio all’interno della sessione in un dialogo creativo e\ndelicato tra acqua e corpo.\nObiettivi\nEspansione della Sequenza: Apprendere nuovi movimenti e posizioni avanzate per arricchire il repertorio\ntecnico e personalizzare l’esperienza del ricevente\nIntroduzione ai Meridiani: Esplorare i concetti di punti e canali energetici\, imparando a integrare stiramenti\ne allungamenti delle fasce muscolari in modo fluido\nFacilitazione del Flusso Energetico: Affinare l’uso di sollevamenti\, spinte e pressioni specifiche per\npermettere alla vitalità di esprimersi\nAscolto e Presenza Creativa: Potenziare la capacità di accoglienza e di osservazione per favorire l’emergere\ndi movimenti spontanei\, seguendo il flusso naturale del corpo\nConsolidamento della Pratica: Prepararsi al passaggio verso il terzo livello attraverso una comprensione\nmatura della tecnica e dell’ascolto somatico\nQUANDO\ndal 9 giugno ore 9.30 al 14 giugno ore 17.00\nDOVE\nAgribenessere Sasseta Alta\, Scansano Grosseto\nCOSTO €620\nPER INFORMAZIONI E PRENOTAZIONI\nKeli: keliprocopio@gmail.com\nFrancesca: acquacadabra@sassetaalta.it
URL:http://www.sassetaalta.it/event/watsu-2-con-keli-procopio/
CATEGORIES:Attività & Offerte
ATTACH;FMTTYPE=image/jpeg:http://www.sassetaalta.it/wp-content/uploads/2026/03/keliwatsu2-1.jpg
END:VEVENT
BEGIN:VEVENT
DTSTART;TZID=Europe/Rome:20260630T093000
DTEND;TZID=Europe/Rome:20260705T170000
DTSTAMP:20260422T141644
CREATED:20260421T125438Z
LAST-MODIFIED:20260421T133150Z
UID:6848-1782811800-1783270800@www.sassetaalta.it
SUMMARY:WATSU®1 con Gianni De Stefani e Francesca Bertocci
DESCRIPTION:Nella prima sezione del Watsu I si apprendono  i movimenti e le posizioni di base del Watsu. In un flusso di movimento\, rimanendo connessi al respiro\, riduciamo il nostro sforzo e ci facciamo sorreggere dall’acqua. Nel continuo ritorno alla Danza del respiro si può trovare la quiete da cui trae origine la qualità della nostra presenza. Nella seconda sezione\, impariamo il Flusso di transizione unendo armonicamente tra loro i movimenti e le posizioni di base. Si apprendono anche i principi di dinamica posturale che aiutano a sostenere e muovere qualsiasi persona in acqua con il minimo sforzo possibile. A terra\, il Tantsu ed esercizi di centratura integreranno il lavoro corporeo in acqua. \nGianni \nIstruttore svizzero di nuoto e aquafitness\, formatore sportivo e studi in fisioterapia. \nMonitore di nuoto per bebè\, pratica Aqua Wellness.\nMassaggiatore Tantsu e ayurvedico. \nHa sintetizzato un suo programma personale che comprende diverse tecniche quali: Eutonia in acqua\, Aqua Wellness\, Watsu\, Yoga acquatico e ginnastica in acqua pre-parto. \nFrancesca \nInsegnante di Basic Watsu® e di SGM® (Massaggio Sensitivo Gestaltico)\, Counselor Olistico Filosomatico\, livello Professional\, SIAF Italia.\nOperatore di Watsu®\, Zen Shiatsu\, Arun Conscious Touch e Massaggio Sensitivo Gestaltico (SGM)®. Laureata in Filosofia\, dal 1990 studia e sperimenta tecniche che facilitano una maggiore connessione fra mente e corpo. \nPer informazioni e iscrizioni telefonare al 0564 5091254 o 3314467030 o scrivere a acquacadabra@sassetaalta.it \n 
URL:http://www.sassetaalta.it/event/watsu1-con-gianni-de-stefani-e-francesca-bertocci/
ATTACH;FMTTYPE=image/jpeg:http://www.sassetaalta.it/wp-content/uploads/2026/04/BASIC-GIANNIIMG-20240519-WA0076.jpg
END:VEVENT
BEGIN:VEVENT
DTSTART;TZID=Europe/Rome:20260630T093000
DTEND;TZID=Europe/Rome:20260705T170000
DTSTAMP:20260422T141644
CREATED:20260421T134940Z
LAST-MODIFIED:20260421T135309Z
UID:6858-1782811800-1783270800@www.sassetaalta.it
SUMMARY:WATSU®1 con Gianni De Stefani e Francesca Bertocci
DESCRIPTION:Nella prima sezione del Watsu I si apprendono  i movimenti e le posizioni di base del Watsu. In un flusso di movimento\, rimanendo connessi al respiro\, riduciamo il nostro sforzo e ci facciamo sorreggere dall’acqua. Nel continuo ritorno alla Danza del respiro si può trovare la quiete da cui trae origine la qualità della nostra presenza. Nella seconda sezione\, impariamo il Flusso di transizione unendo armonicamente tra loro i movimenti e le posizioni di base. Si apprendono anche i principi di dinamica posturale che aiutano a sostenere e muovere qualsiasi persona in acqua con il minimo sforzo possibile. A terra\, il Tantsu ed esercizi di centratura integreranno il lavoro corporeo in acqua. \nGianni \nIstruttore svizzero di nuoto e aquafitness\, formatore sportivo e studi in fisioterapia. \nMonitore di nuoto per bebè\, pratica Aqua Wellness.\nMassaggiatore Tantsu e ayurvedico. \nHa sintetizzato un suo programma personale che comprende diverse tecniche quali: Eutonia in acqua\, Aqua Wellness\, Watsu\, Yoga acquatico e ginnastica in acqua pre-parto. \nFrancesca \nInsegnante di Basic Watsu® e di SGM® (Massaggio Sensitivo Gestaltico)\, Counselor Olistico Filosomatico\, livello Professional\, SIAF Italia.\nOperatore di Watsu®\, Zen Shiatsu\, Arun Conscious Touch e Massaggio Sensitivo Gestaltico (SGM)®. \nLaureata in Filosofia\, dal 1990 studia e sperimenta tecniche che\nfacilitano una maggiore connessione fra mente e corpo. \nPer informazioni e iscrizioni telefonare al 0564 509124 – 3314467030 o scrivere a acquacadabra@sassetaalta.it e chiedere di Francesca
URL:http://www.sassetaalta.it/event/watsu1-con-gianni-de-stefani-e-francesca-bertocci-2/
CATEGORIES:Attività & Offerte
ATTACH;FMTTYPE=image/jpeg:http://www.sassetaalta.it/wp-content/uploads/2026/04/BASIC-GIANNIIMG-20240519-WA0076.jpg
END:VEVENT
END:VCALENDAR